Name | Last modified | Size | Description | |
---|---|---|---|---|
Parent Directory | - | |||
install-out.txt | 17-Oct-2023 00:35 | 961 | ||
install-summary.dcf | 17-Oct-2023 00:35 | 256 | ||
buildsrc-out.txt | 17-Oct-2023 00:35 | 904 | ||
buildsrc-summary.dcf | 17-Oct-2023 00:35 | 413 | ||
checksrc-out.txt | 17-Oct-2023 00:35 | 5.8K | ||
checksrc-summary.dcf | 17-Oct-2023 00:35 | 414 | ||