Name | Last modified | Size | Description | |
---|---|---|---|---|
Parent Directory | - | |||
buildbin-out.txt | 22-Jun-2023 00:36 | 1.8K | ||
buildbin-summary.dcf | 22-Jun-2023 00:36 | 539 | ||
buildsrc-out.txt | 17-Oct-2023 00:36 | 1.4K | ||
buildsrc-summary.dcf | 17-Oct-2023 00:36 | 380 | ||
checksrc-out.txt | 22-Jun-2023 00:36 | 6.1K | ||
checksrc-summary.dcf | 22-Jun-2023 00:36 | 462 | ||
install-out.txt | 17-Oct-2023 00:36 | 1.6K | ||
install-summary.dcf | 17-Oct-2023 00:36 | 276 | ||