Index of /checkResults/3.17/bioc-LATEST/GAPGOM/raw-results/nebbiolo1
Name
Last modified
Size
Description
Parent Directory
-
install-out.txt
17-Oct-2023 00:35
1.2K
buildsrc-out.txt
17-Oct-2023 00:35
1.1K
buildsrc-summary.dcf
17-Oct-2023 00:35
331
install-summary.dcf
17-Oct-2023 00:35
257