Index of /checkResults/3.17/bioc-LATEST/FunChIP/raw-results
Name
Last modified
Size
Description
Parent Directory
-
info.dcf
10-Jun-2023 00:06
278
merida1/
10-Jun-2023 00:06
-
nebbiolo1/
10-Jun-2023 00:05
-
palomino3/
10-Jun-2023 00:06
-