Name | Last modified | Size | Description | |
---|---|---|---|---|
Parent Directory | - | |||
buildbin-out.txt | 17-Oct-2023 00:36 | 1.4K | ||
buildbin-summary.dcf | 17-Oct-2023 00:36 | 532 | ||
buildsrc-out.txt | 17-Oct-2023 00:36 | 854 | ||
buildsrc-summary.dcf | 17-Oct-2023 00:36 | 465 | ||
checksrc-out.txt | 17-Oct-2023 00:36 | 4.3K | ||
checksrc-summary.dcf | 17-Oct-2023 00:36 | 464 | ||
install-out.txt | 17-Oct-2023 00:36 | 1.2K | ||
install-summary.dcf | 17-Oct-2023 00:36 | 273 | ||