Name | Last modified | Size | Description | |
---|---|---|---|---|
Parent Directory | - | |||
install-summary.dcf | 17-Oct-2023 00:36 | 286 | ||
checksrc-summary.dcf | 17-Oct-2023 00:36 | 483 | ||
buildsrc-summary.dcf | 17-Oct-2023 00:36 | 488 | ||
buildbin-summary.dcf | 17-Oct-2023 00:36 | 567 | ||
buildsrc-out.txt | 17-Oct-2023 00:36 | 921 | ||
install-out.txt | 17-Oct-2023 00:36 | 2.0K | ||
buildbin-out.txt | 17-Oct-2023 00:36 | 2.2K | ||
checksrc-out.txt | 17-Oct-2023 00:36 | 3.2K | ||