Name | Last modified | Size | Description | |
---|---|---|---|---|
Parent Directory | - | |||
install-summary.dcf | 17-Oct-2023 00:35 | 277 | ||
install-out.txt | 17-Oct-2023 00:35 | 2.0K | ||
buildsrc-out.txt | 17-Oct-2023 00:35 | 882 | ||
buildsrc-summary.dcf | 17-Oct-2023 00:35 | 444 | ||
checksrc-out.txt | 17-Oct-2023 00:35 | 3.3K | ||
checksrc-summary.dcf | 17-Oct-2023 00:35 | 450 | ||