Name | Last modified | Size | Description | |
---|---|---|---|---|
Parent Directory | - | |||
install-summary.dcf | 17-Oct-2023 00:37 | 288 | ||
buildsrc-summary.dcf | 17-Oct-2023 00:37 | 455 | ||
checksrc-summary.dcf | 17-Oct-2023 00:37 | 480 | ||
buildbin-summary.dcf | 17-Oct-2023 00:37 | 585 | ||
buildsrc-out.txt | 17-Oct-2023 00:37 | 892 | ||
install-out.txt | 17-Oct-2023 00:37 | 2.0K | ||
buildbin-out.txt | 17-Oct-2023 00:37 | 2.3K | ||
checksrc-out.txt | 17-Oct-2023 00:37 | 3.3K | ||