Index of /checkResults/3.17/bioc-LATEST/EpiTxDb/raw-results

[ICO]NameLast modifiedSizeDescription

[DIR]Parent Directory  -  
[DIR]merida1/03-Oct-2023 00:37 -  
[DIR]nebbiolo1/03-Oct-2023 00:35 -  
[DIR]palomino3/03-Oct-2023 00:36 -  
[   ]info.dcf03-Oct-2023 00:37 281