Name | Last modified | Size | Description | |
---|---|---|---|---|
Parent Directory | - | |||
buildbin-summary.dcf | 17-Oct-2023 00:37 | 517 | ||
buildbin-out.txt | 17-Oct-2023 00:37 | 1.3K | ||
checksrc-summary.dcf | 17-Oct-2023 00:37 | 443 | ||
checksrc-out.txt | 17-Oct-2023 00:37 | 4.6K | ||
buildsrc-summary.dcf | 17-Oct-2023 00:37 | 422 | ||
buildsrc-out.txt | 17-Oct-2023 00:37 | 871 | ||
install-summary.dcf | 17-Oct-2023 00:37 | 266 | ||
install-out.txt | 17-Oct-2023 00:37 | 1.2K | ||