Name | Last modified | Size | Description | |
---|---|---|---|---|
Parent Directory | - | |||
install-summary.dcf | 17-Oct-2023 00:35 | 267 | ||
buildsrc-summary.dcf | 17-Oct-2023 00:35 | 428 | ||
checksrc-summary.dcf | 17-Oct-2023 00:35 | 435 | ||
buildsrc-out.txt | 17-Oct-2023 00:35 | 915 | ||
install-out.txt | 17-Oct-2023 00:35 | 1.7K | ||
checksrc-out.txt | 17-Oct-2023 00:35 | 6.6K | ||