Name | Last modified | Size | Description | |
---|---|---|---|---|
Parent Directory | - | |||
buildbin-out.txt | 17-Oct-2023 00:36 | 1.1K | ||
buildbin-summary.dcf | 17-Oct-2023 00:36 | 526 | ||
buildsrc-out.txt | 17-Oct-2023 00:36 | 909 | ||
buildsrc-summary.dcf | 17-Oct-2023 00:36 | 460 | ||
checksrc-out.txt | 17-Oct-2023 00:36 | 4.3K | ||
checksrc-summary.dcf | 17-Oct-2023 00:36 | 454 | ||
install-out.txt | 17-Oct-2023 00:36 | 968 | ||
install-summary.dcf | 17-Oct-2023 00:36 | 272 | ||