Name | Last modified | Size | Description | |
---|---|---|---|---|
Parent Directory | - | |||
buildbin-summary.dcf | 17-Oct-2023 00:36 | 563 | ||
buildbin-out.txt | 17-Oct-2023 00:36 | 1.5K | ||
checksrc-summary.dcf | 17-Oct-2023 00:36 | 472 | ||
checksrc-out.txt | 17-Oct-2023 00:36 | 4.9K | ||
buildsrc-summary.dcf | 17-Oct-2023 00:36 | 444 | ||
buildsrc-out.txt | 17-Oct-2023 00:36 | 871 | ||
install-summary.dcf | 17-Oct-2023 00:36 | 280 | ||
install-out.txt | 17-Oct-2023 00:36 | 1.3K | ||