Name | Last modified | Size | Description | |
---|---|---|---|---|
Parent Directory | - | |||
install-summary.dcf | 17-Oct-2023 00:36 | 278 | ||
buildsrc-summary.dcf | 17-Oct-2023 00:36 | 472 | ||
checksrc-summary.dcf | 17-Oct-2023 00:36 | 473 | ||
buildbin-summary.dcf | 17-Oct-2023 00:36 | 544 | ||
buildsrc-out.txt | 17-Oct-2023 00:36 | 1.2K | ||
install-out.txt | 17-Oct-2023 00:36 | 3.7K | ||
buildbin-out.txt | 17-Oct-2023 00:36 | 3.9K | ||
checksrc-out.txt | 17-Oct-2023 00:36 | 6.0K | ||