Name | Last modified | Size | Description | |
---|---|---|---|---|
Parent Directory | - | |||
buildsrc-out.txt | 17-Oct-2023 00:35 | 1.2K | ||
buildsrc-summary.dcf | 17-Oct-2023 00:35 | 337 | ||
checksrc-out.txt | 31-May-2023 00:05 | 3.7K | ||
checksrc-summary.dcf | 31-May-2023 00:05 | 422 | ||
install-out.txt | 17-Oct-2023 00:35 | 948 | ||
install-summary.dcf | 17-Oct-2023 00:35 | 266 | ||