Name | Last modified | Size | Description | |
---|---|---|---|---|
Parent Directory | - | |||
checksrc-out.txt | 31-May-2023 00:06 | 3.8K | ||
buildbin-out.txt | 31-May-2023 00:06 | 1.3K | ||
buildsrc-out.txt | 17-Oct-2023 00:36 | 1.2K | ||
install-out.txt | 17-Oct-2023 00:36 | 1.0K | ||
buildbin-summary.dcf | 31-May-2023 00:06 | 543 | ||
checksrc-summary.dcf | 31-May-2023 00:06 | 452 | ||
buildsrc-summary.dcf | 17-Oct-2023 00:36 | 347 | ||
install-summary.dcf | 17-Oct-2023 00:36 | 276 | ||