Name | Last modified | Size | Description | |
---|---|---|---|---|
Parent Directory | - | |||
install-summary.dcf | 17-Oct-2023 00:36 | 266 | ||
install-out.txt | 17-Oct-2023 00:36 | 6.6K | ||
checksrc-summary.dcf | 17-Oct-2023 00:36 | 449 | ||
checksrc-out.txt | 17-Oct-2023 00:36 | 7.9K | ||
buildsrc-summary.dcf | 17-Oct-2023 00:36 | 448 | ||
buildsrc-out.txt | 17-Oct-2023 00:36 | 1.0K | ||
buildbin-summary.dcf | 17-Oct-2023 00:36 | 509 | ||
buildbin-out.txt | 17-Oct-2023 00:36 | 6.8K | ||