Index of /checkResults/3.17/bioc-LATEST/DEXSeq/raw-results

[ICO]NameLast modifiedSizeDescription

[DIR]Parent Directory  -  
[   ]info.dcf29-Mar-2023 00:06 273  
[DIR]merida1/29-Mar-2023 00:06 -  
[DIR]nebbiolo1/29-Mar-2023 00:05 -  
[DIR]palomino3/29-Mar-2023 00:05 -