Index of /checkResults/3.17/bioc-LATEST/DESpace/raw-results
Name
Last modified
Size
Description
Parent Directory
-
merida1/
11-Oct-2023 02:01
-
nebbiolo1/
11-Oct-2023 02:00
-
palomino3/
11-Oct-2023 02:00
-
info.dcf
11-Oct-2023 02:01
267