Name | Last modified | Size | Description | |
---|---|---|---|---|
Parent Directory | - | |||
install-summary.dcf | 17-Oct-2023 00:36 | 268 | ||
buildsrc-summary.dcf | 17-Oct-2023 00:36 | 425 | ||
checksrc-summary.dcf | 17-Oct-2023 00:36 | 441 | ||
buildbin-summary.dcf | 17-Oct-2023 00:36 | 525 | ||
buildsrc-out.txt | 17-Oct-2023 00:36 | 842 | ||
install-out.txt | 17-Oct-2023 00:36 | 2.5K | ||
checksrc-out.txt | 17-Oct-2023 00:36 | 4.1K | ||
buildbin-out.txt | 17-Oct-2023 00:36 | 6.1K | ||