Name | Last modified | Size | Description | |
---|---|---|---|---|
Parent Directory | - | |||
install-summary.dcf | 17-Oct-2023 00:36 | 262 | ||
install-out.txt | 17-Oct-2023 00:36 | 1.0K | ||
checksrc-summary.dcf | 17-Oct-2023 00:36 | 435 | ||
checksrc-out.txt | 17-Oct-2023 00:36 | 4.4K | ||
buildsrc-summary.dcf | 17-Oct-2023 00:36 | 415 | ||
buildsrc-out.txt | 17-Oct-2023 00:36 | 800 | ||
buildbin-summary.dcf | 17-Oct-2023 00:36 | 507 | ||
buildbin-out.txt | 17-Oct-2023 00:36 | 1.2K | ||