![]() | Name | Last modified | Size | Description |
---|---|---|---|---|
![]() | Parent Directory | - | ||
![]() | buildsrc-out.txt | 03-Oct-2023 00:35 | 1.0K | |
![]() | buildsrc-summary.dcf | 03-Oct-2023 00:35 | 439 | |
![]() | checksrc-out.txt | 03-Oct-2023 00:35 | 5.0K | |
![]() | checksrc-summary.dcf | 03-Oct-2023 00:35 | 448 | |
![]() | install-out.txt | 03-Oct-2023 00:35 | 1.0K | |
![]() | install-summary.dcf | 03-Oct-2023 00:35 | 273 | |