Name | Last modified | Size | Description | |
---|---|---|---|---|
Parent Directory | - | |||
buildbin-out.txt | 17-Oct-2023 00:36 | 1.2K | ||
buildbin-summary.dcf | 17-Oct-2023 00:36 | 573 | ||
buildsrc-out.txt | 17-Oct-2023 00:36 | 1.0K | ||
buildsrc-summary.dcf | 17-Oct-2023 00:36 | 449 | ||
checksrc-out.txt | 17-Oct-2023 00:36 | 5.2K | ||
checksrc-summary.dcf | 17-Oct-2023 00:36 | 478 | ||
install-out.txt | 17-Oct-2023 00:36 | 1.0K | ||
install-summary.dcf | 17-Oct-2023 00:36 | 284 | ||