![]() | Name | Last modified | Size | Description |
---|---|---|---|---|
![]() | Parent Directory | - | ||
![]() | buildsrc-out.txt | 30-Sep-2023 00:35 | 801 | |
![]() | buildsrc-summary.dcf | 30-Sep-2023 00:35 | 412 | |
![]() | checksrc-out.txt | 30-Sep-2023 00:35 | 8.9K | |
![]() | checksrc-summary.dcf | 30-Sep-2023 00:35 | 408 | |
![]() | install-out.txt | 30-Sep-2023 00:35 | 1.0K | |
![]() | install-summary.dcf | 30-Sep-2023 00:35 | 256 | |