![]() | Name | Last modified | Size | Description |
---|---|---|---|---|
![]() | Parent Directory | - | ||
![]() | buildbin-out.txt | 15-Oct-2023 00:36 | 29K | |
![]() | buildbin-summary.dcf | 15-Oct-2023 00:36 | 525 | |
![]() | buildsrc-out.txt | 17-Oct-2023 00:36 | 2.2K | |
![]() | buildsrc-summary.dcf | 17-Oct-2023 00:36 | 343 | |
![]() | checksrc-out.txt | 15-Oct-2023 00:36 | 12K | |
![]() | checksrc-summary.dcf | 15-Oct-2023 00:36 | 446 | |
![]() | install-out.txt | 17-Oct-2023 00:36 | 27K | |
![]() | install-summary.dcf | 17-Oct-2023 00:36 | 268 | |