Name | Last modified | Size | Description | |
---|---|---|---|---|
Parent Directory | - | |||
buildbin-out.txt | 15-Oct-2023 00:35 | 121K | ||
buildbin-summary.dcf | 15-Oct-2023 00:35 | 527 | ||
buildsrc-out.txt | 17-Oct-2023 00:36 | 1.1K | ||
buildsrc-summary.dcf | 17-Oct-2023 00:36 | 374 | ||
checksrc-out.txt | 15-Oct-2023 00:35 | 10K | ||
checksrc-summary.dcf | 15-Oct-2023 00:35 | 461 | ||
install-out.txt | 17-Oct-2023 00:36 | 121K | ||
install-summary.dcf | 17-Oct-2023 00:36 | 272 | ||