Name | Last modified | Size | Description | |
---|---|---|---|---|
Parent Directory | - | |||
buildsrc-out.txt | 17-Oct-2023 00:35 | 896 | ||
buildsrc-summary.dcf | 17-Oct-2023 00:35 | 427 | ||
checksrc-out.txt | 17-Oct-2023 00:35 | 35K | ||
checksrc-summary.dcf | 17-Oct-2023 00:35 | 431 | ||
install-out.txt | 17-Oct-2023 00:35 | 766K | ||
install-summary.dcf | 17-Oct-2023 00:35 | 266 | ||