Name | Last modified | Size | Description | |
---|---|---|---|---|
Parent Directory | - | |||
buildbin-out.txt | 17-Oct-2023 00:36 | 9.8K | ||
buildbin-summary.dcf | 17-Oct-2023 00:36 | 549 | ||
buildsrc-out.txt | 17-Oct-2023 00:36 | 906 | ||
buildsrc-summary.dcf | 17-Oct-2023 00:36 | 437 | ||
checksrc-out.txt | 17-Oct-2023 00:36 | 35K | ||
checksrc-summary.dcf | 17-Oct-2023 00:36 | 462 | ||
install-out.txt | 17-Oct-2023 00:36 | 7.5K | ||
install-summary.dcf | 17-Oct-2023 00:36 | 276 | ||