Name | Last modified | Size | Description | |
---|---|---|---|---|
Parent Directory | - | |||
buildbin-out.txt | 17-Oct-2023 00:36 | 1.4K | ||
buildbin-summary.dcf | 17-Oct-2023 00:36 | 561 | ||
buildsrc-out.txt | 17-Oct-2023 00:36 | 836 | ||
buildsrc-summary.dcf | 17-Oct-2023 00:36 | 444 | ||
checksrc-out.txt | 17-Oct-2023 00:36 | 4.3K | ||
checksrc-summary.dcf | 17-Oct-2023 00:36 | 465 | ||
install-out.txt | 17-Oct-2023 00:36 | 1.2K | ||
install-summary.dcf | 17-Oct-2023 00:36 | 280 | ||