Name | Last modified | Size | Description | |
---|---|---|---|---|
Parent Directory | - | |||
install-summary.dcf | 17-Oct-2023 00:35 | 255 | ||
install-out.txt | 17-Oct-2023 00:35 | 622 | ||
checksrc-summary.dcf | 02-Dec-2022 01:05 | 397 | ||
checksrc-out.txt | 02-Dec-2022 01:05 | 3.1K | ||
buildsrc-summary.dcf | 17-Oct-2023 00:35 | 326 | ||
buildsrc-out.txt | 17-Oct-2023 00:35 | 855 | ||