![]() | Name | Last modified | Size | Description |
---|---|---|---|---|
![]() | Parent Directory | - | ||
![]() | buildbin-out.txt | 17-Oct-2023 00:36 | 4.6K | |
![]() | buildbin-summary.dcf | 17-Oct-2023 00:36 | 519 | |
![]() | buildsrc-out.txt | 17-Oct-2023 00:36 | 848 | |
![]() | buildsrc-summary.dcf | 17-Oct-2023 00:36 | 422 | |
![]() | checksrc-out.txt | 17-Oct-2023 00:36 | 6.5K | |
![]() | checksrc-summary.dcf | 17-Oct-2023 00:36 | 443 | |
![]() | install-out.txt | 17-Oct-2023 00:36 | 4.4K | |
![]() | install-summary.dcf | 17-Oct-2023 00:36 | 265 | |