![]() | Name | Last modified | Size | Description |
---|---|---|---|---|
![]() | Parent Directory | - | ||
![]() | install-summary.dcf | 26-Sep-2023 00:37 | 263 | |
![]() | buildsrc-summary.dcf | 26-Sep-2023 00:37 | 417 | |
![]() | checksrc-summary.dcf | 26-Sep-2023 00:37 | 436 | |
![]() | buildbin-summary.dcf | 26-Sep-2023 00:37 | 510 | |
![]() | buildsrc-out.txt | 26-Sep-2023 00:37 | 866 | |
![]() | install-out.txt | 26-Sep-2023 00:37 | 1.0K | |
![]() | buildbin-out.txt | 26-Sep-2023 00:37 | 1.1K | |
![]() | checksrc-out.txt | 26-Sep-2023 00:37 | 4.7K | |