![]() | Name | Last modified | Size | Description |
---|---|---|---|---|
![]() | Parent Directory | - | ||
![]() | buildbin-out.txt | 23-Sep-2023 00:36 | 1.9K | |
![]() | buildbin-summary.dcf | 23-Sep-2023 00:36 | 527 | |
![]() | buildsrc-out.txt | 23-Sep-2023 00:36 | 941 | |
![]() | buildsrc-summary.dcf | 23-Sep-2023 00:36 | 460 | |
![]() | checksrc-out.txt | 23-Sep-2023 00:36 | 12K | |
![]() | checksrc-summary.dcf | 23-Sep-2023 00:36 | 455 | |
![]() | install-out.txt | 23-Sep-2023 00:36 | 1.7K | |
![]() | install-summary.dcf | 23-Sep-2023 00:36 | 272 | |