Name | Last modified | Size | Description | |
---|---|---|---|---|
Parent Directory | - | |||
install-summary.dcf | 17-Oct-2023 00:36 | 262 | ||
buildsrc-summary.dcf | 17-Oct-2023 00:36 | 359 | ||
checksrc-summary.dcf | 18-Apr-2023 00:03 | 434 | ||
buildbin-summary.dcf | 18-Apr-2023 00:03 | 497 | ||
buildsrc-out.txt | 17-Oct-2023 00:36 | 2.5K | ||
install-out.txt | 17-Oct-2023 00:36 | 3.6K | ||
buildbin-out.txt | 18-Apr-2023 00:03 | 3.7K | ||
checksrc-out.txt | 18-Apr-2023 00:03 | 7.8K | ||