Index of /checkResults/3.17/bioc-LATEST/CRImage/raw-results

[ICO]NameLast modifiedSizeDescription

[DIR]Parent Directory  -  
[   ]info.dcf31-May-2023 00:06 320  
[DIR]merida1/31-May-2023 00:06 -  
[DIR]nebbiolo1/31-May-2023 00:05 -  
[DIR]palomino3/31-May-2023 00:06 -