Name | Last modified | Size | Description | |
---|---|---|---|---|
Parent Directory | - | |||
checksrc-out.txt | 17-Oct-2023 00:35 | 7.1K | ||
install-out.txt | 17-Oct-2023 00:35 | 961 | ||
buildsrc-out.txt | 17-Oct-2023 00:35 | 858 | ||
checksrc-summary.dcf | 17-Oct-2023 00:35 | 427 | ||
buildsrc-summary.dcf | 17-Oct-2023 00:35 | 427 | ||
install-summary.dcf | 17-Oct-2023 00:35 | 265 | ||