![]() | Name | Last modified | Size | Description |
---|---|---|---|---|
![]() | Parent Directory | - | ||
![]() | buildsrc-out.txt | 23-Sep-2023 00:35 | 858 | |
![]() | buildsrc-summary.dcf | 23-Sep-2023 00:35 | 427 | |
![]() | checksrc-out.txt | 23-Sep-2023 00:35 | 7.1K | |
![]() | checksrc-summary.dcf | 23-Sep-2023 00:35 | 427 | |
![]() | install-out.txt | 23-Sep-2023 00:35 | 961 | |
![]() | install-summary.dcf | 23-Sep-2023 00:35 | 265 | |