Index of /checkResults/3.17/bioc-LATEST/CRISPRseek/raw-results

[ICO]NameLast modifiedSizeDescription

[DIR]Parent Directory  -  
[DIR]merida1/28-Sep-2023 00:37 -  
[DIR]nebbiolo1/28-Sep-2023 00:35 -  
[DIR]palomino3/28-Sep-2023 00:36 -  
[   ]info.dcf28-Sep-2023 00:37 282