Name | Last modified | Size | Description | |
---|---|---|---|---|
Parent Directory | - | |||
buildbin-out.txt | 17-Oct-2023 00:36 | 4.0K | ||
buildbin-summary.dcf | 17-Oct-2023 00:36 | 523 | ||
buildsrc-out.txt | 17-Oct-2023 00:36 | 842 | ||
buildsrc-summary.dcf | 17-Oct-2023 00:36 | 423 | ||
checksrc-out.txt | 17-Oct-2023 00:36 | 5.0K | ||
checksrc-summary.dcf | 17-Oct-2023 00:36 | 445 | ||
install-out.txt | 17-Oct-2023 00:36 | 2.1K | ||
install-summary.dcf | 17-Oct-2023 00:36 | 267 | ||