![]() | Name | Last modified | Size | Description |
---|---|---|---|---|
![]() | Parent Directory | - | ||
![]() | buildsrc-out.txt | 23-Sep-2023 00:35 | 814 | |
![]() | buildsrc-summary.dcf | 23-Sep-2023 00:35 | 424 | |
![]() | checksrc-out.txt | 23-Sep-2023 00:35 | 3.8K | |
![]() | checksrc-summary.dcf | 23-Sep-2023 00:35 | 422 | |
![]() | install-out.txt | 23-Sep-2023 00:35 | 958 | |
![]() | install-summary.dcf | 23-Sep-2023 00:35 | 263 | |