Name | Last modified | Size | Description | |
---|---|---|---|---|
Parent Directory | - | |||
install-out.txt | 17-Oct-2023 00:36 | 2.0K | ||
install-summary.dcf | 17-Oct-2023 00:36 | 269 | ||
buildsrc-out.txt | 17-Oct-2023 00:36 | 909 | ||
buildsrc-summary.dcf | 17-Oct-2023 00:36 | 427 | ||
checksrc-summary.dcf | 17-Oct-2023 00:36 | 444 | ||
checksrc-out.txt | 17-Oct-2023 00:36 | 5.2K | ||
buildbin-out.txt | 17-Oct-2023 00:36 | 3.9K | ||
buildbin-summary.dcf | 17-Oct-2023 00:36 | 530 | ||