Name | Last modified | Size | Description | |
---|---|---|---|---|
Parent Directory | - | |||
buildbin-out.txt | 17-Oct-2023 00:36 | 18K | ||
buildbin-summary.dcf | 17-Oct-2023 00:36 | 497 | ||
buildsrc-out.txt | 17-Oct-2023 00:36 | 1.3K | ||
buildsrc-summary.dcf | 17-Oct-2023 00:36 | 441 | ||
checksrc-out.txt | 17-Oct-2023 00:36 | 6.5K | ||
checksrc-summary.dcf | 17-Oct-2023 00:36 | 441 | ||
install-out.txt | 17-Oct-2023 00:36 | 18K | ||
install-summary.dcf | 17-Oct-2023 00:36 | 262 | ||