Name | Last modified | Size | Description | |
---|---|---|---|---|
Parent Directory | - | |||
install-out.txt | 17-Oct-2023 00:36 | 1.3K | ||
install-summary.dcf | 17-Oct-2023 00:36 | 266 | ||
buildsrc-out.txt | 17-Oct-2023 00:36 | 834 | ||
buildsrc-summary.dcf | 17-Oct-2023 00:36 | 448 | ||
checksrc-out.txt | 17-Oct-2023 00:36 | 4.7K | ||
checksrc-summary.dcf | 17-Oct-2023 00:36 | 449 | ||
buildbin-out.txt | 17-Oct-2023 00:36 | 1.4K | ||
buildbin-summary.dcf | 17-Oct-2023 00:36 | 509 | ||