Name | Last modified | Size | Description | |
---|---|---|---|---|
Parent Directory | - | |||
buildbin-out.txt | 17-Oct-2023 00:36 | 1.2K | ||
buildbin-summary.dcf | 17-Oct-2023 00:36 | 548 | ||
buildsrc-out.txt | 17-Oct-2023 00:36 | 878 | ||
buildsrc-summary.dcf | 17-Oct-2023 00:36 | 436 | ||
checksrc-out.txt | 17-Oct-2023 00:36 | 3.2K | ||
checksrc-summary.dcf | 17-Oct-2023 00:36 | 455 | ||
install-out.txt | 17-Oct-2023 00:36 | 1.0K | ||
install-summary.dcf | 17-Oct-2023 00:36 | 275 | ||