Name | Last modified | Size | Description | |
---|---|---|---|---|
Parent Directory | - | |||
buildbin-out.txt | 17-Oct-2023 00:36 | 2.8K | ||
buildbin-summary.dcf | 17-Oct-2023 00:36 | 576 | ||
buildsrc-out.txt | 17-Oct-2023 00:36 | 910 | ||
buildsrc-summary.dcf | 17-Oct-2023 00:36 | 450 | ||
checksrc-out.txt | 17-Oct-2023 00:36 | 4.4K | ||
checksrc-summary.dcf | 17-Oct-2023 00:36 | 480 | ||
install-out.txt | 17-Oct-2023 00:36 | 2.5K | ||
install-summary.dcf | 17-Oct-2023 00:36 | 284 | ||