Name | Last modified | Size | Description | |
---|---|---|---|---|
Parent Directory | - | |||
buildbin-out.txt | 17-Oct-2023 00:36 | 27K | ||
buildbin-summary.dcf | 17-Oct-2023 00:36 | 549 | ||
buildsrc-out.txt | 17-Oct-2023 00:36 | 921 | ||
buildsrc-summary.dcf | 17-Oct-2023 00:36 | 436 | ||
checksrc-out.txt | 17-Oct-2023 00:36 | 21K | ||
checksrc-summary.dcf | 17-Oct-2023 00:36 | 463 | ||
install-out.txt | 17-Oct-2023 00:36 | 25K | ||
install-summary.dcf | 17-Oct-2023 00:36 | 275 | ||