Name | Last modified | Size | Description | |
---|---|---|---|---|
Parent Directory | - | |||
checksrc-out.txt | 17-Oct-2023 00:35 | 2.4K | ||
install-out.txt | 17-Oct-2023 00:35 | 874 | ||
buildsrc-out.txt | 17-Oct-2023 00:35 | 824 | ||
checksrc-summary.dcf | 17-Oct-2023 00:35 | 428 | ||
buildsrc-summary.dcf | 17-Oct-2023 00:35 | 365 | ||
install-summary.dcf | 17-Oct-2023 00:35 | 267 | ||