Name | Last modified | Size | Description | |
---|---|---|---|---|
Parent Directory | - | |||
checksrc-out.txt | 17-Oct-2023 00:35 | 4.2K | ||
install-out.txt | 17-Oct-2023 00:35 | 967 | ||
buildsrc-out.txt | 17-Oct-2023 00:35 | 826 | ||
checksrc-summary.dcf | 17-Oct-2023 00:35 | 440 | ||
buildsrc-summary.dcf | 17-Oct-2023 00:35 | 432 | ||
install-summary.dcf | 17-Oct-2023 00:35 | 268 | ||