Name | Last modified | Size | Description | |
---|---|---|---|---|
Parent Directory | - | |||
buildbin-out.txt | 17-Oct-2023 00:36 | 4.9K | ||
buildbin-summary.dcf | 17-Oct-2023 00:36 | 560 | ||
buildsrc-out.txt | 17-Oct-2023 00:36 | 764 | ||
buildsrc-summary.dcf | 17-Oct-2023 00:36 | 441 | ||
checksrc-out.txt | 17-Oct-2023 00:36 | 3.9K | ||
checksrc-summary.dcf | 17-Oct-2023 00:36 | 470 | ||
install-out.txt | 17-Oct-2023 00:36 | 4.7K | ||
install-summary.dcf | 17-Oct-2023 00:36 | 279 | ||