Name | Last modified | Size | Description | |
---|---|---|---|---|
Parent Directory | - | |||
install-summary.dcf | 17-Oct-2023 00:35 | 257 | ||
install-out.txt | 17-Oct-2023 00:35 | 1.6K | ||
checksrc-summary.dcf | 17-Oct-2023 00:35 | 410 | ||
checksrc-out.txt | 17-Oct-2023 00:35 | 4.2K | ||
buildsrc-summary.dcf | 17-Oct-2023 00:35 | 415 | ||
buildsrc-out.txt | 17-Oct-2023 00:35 | 895 | ||